BEGIN:VCALENDAR
VERSION:2.0
BEGIN:VEVENT
URL:https://thecambridgehotel.oztix.com.au/outlet/event/03512197-9699-4078-ac2d-8c8fb29dcab6
DTSTART:20260612T093000Z
DTEND:20260612T093000Z
SUMMARY:Alex Lloyd - Celebrating 25 Years of Watching Angels Mend
DESCRIPTION:Event details: https://thecambridgehotel.oztix.com.au/outlet/event/03512197-9699-4078-ac2d-8c8fb29dcab6
LOCATION:King Street Band Room (Newcastle, NSW)
END:VEVENT
END:VCALENDAR